BEGIN:VCALENDAR
VERSION:2.0
PRODID:-//Arbeitskreis Bremer Archive - ECPv6.15.20//NONSGML v1.0//EN
CALSCALE:GREGORIAN
METHOD:PUBLISH
X-WR-CALNAME:Arbeitskreis Bremer Archive
X-ORIGINAL-URL:https://www.bremer-archive.de
X-WR-CALDESC:Veranstaltungen für Arbeitskreis Bremer Archive
REFRESH-INTERVAL;VALUE=DURATION:PT1H
X-Robots-Tag:noindex
X-PUBLISHED-TTL:PT1H
BEGIN:VTIMEZONE
TZID:Europe/Berlin
BEGIN:DAYLIGHT
TZOFFSETFROM:+0100
TZOFFSETTO:+0200
TZNAME:CEST
DTSTART:20240331T010000
END:DAYLIGHT
BEGIN:STANDARD
TZOFFSETFROM:+0200
TZOFFSETTO:+0100
TZNAME:CET
DTSTART:20241027T010000
END:STANDARD
BEGIN:DAYLIGHT
TZOFFSETFROM:+0100
TZOFFSETTO:+0200
TZNAME:CEST
DTSTART:20250330T010000
END:DAYLIGHT
BEGIN:STANDARD
TZOFFSETFROM:+0200
TZOFFSETTO:+0100
TZNAME:CET
DTSTART:20251026T010000
END:STANDARD
BEGIN:DAYLIGHT
TZOFFSETFROM:+0100
TZOFFSETTO:+0200
TZNAME:CEST
DTSTART:20260329T010000
END:DAYLIGHT
BEGIN:STANDARD
TZOFFSETFROM:+0200
TZOFFSETTO:+0100
TZNAME:CET
DTSTART:20261025T010000
END:STANDARD
END:VTIMEZONE
BEGIN:VEVENT
DTSTART;TZID=Europe/Berlin:20251125T200000
DTEND;TZID=Europe/Berlin:20251125T213000
DTSTAMP:20260420T163601
CREATED:20250814T150234Z
LAST-MODIFIED:20250814T150234Z
UID:5433-1764100800-1764106200@www.bremer-archive.de
SUMMARY:Festakt - 50 Jahre Klaus-Kuhnke-Institut für Populäre Musik
DESCRIPTION:1975 gründeten Klaus Kuhnke\, Manfred Miller und Peter Schulze das „Archiv für Populäre Musik“ in Bremen\, aus dem das heutige „Klaus-Kuhnke-Institut für Populäre Musik“ hervorgegangen ist. Seit 1991\, das heißt seit nunmehr 34 Jahren\, ist es Teil der Bremer Hochschule für Künste.\nAm Dienstag\, dem 25.11.2025\, wird es um 20 Uhr einen Festakt im Konzertsaal der Hochschule für Künste geben. Ein heiterer & bunter Abend mit Ansprachen & musikalischen Grüßen ist zu erwarten. Alle Freund:innen\, Wegbegleiter:innen & Unterstützer:innen des KKI sind herzlich eingeladen\, daran teilzunehmen.
URL:https://www.bremer-archive.de/veranstaltungen/festakt-50-jahre-klaus-kuhnke-institut-fuer-populaere-musik/
ATTACH;FMTTYPE=image/png:https://www.bremer-archive.de/wp-content/uploads/kki-logo-mit-schriftzug_klein-scaled.png
END:VEVENT
END:VCALENDAR