BEGIN:VCALENDAR
VERSION:2.0
PRODID:-//Arbeitskreis Bremer Archive - ECPv6.15.20//NONSGML v1.0//EN
CALSCALE:GREGORIAN
METHOD:PUBLISH
X-ORIGINAL-URL:https://www.bremer-archive.de
X-WR-CALDESC:Veranstaltungen für Arbeitskreis Bremer Archive
REFRESH-INTERVAL;VALUE=DURATION:PT1H
X-Robots-Tag:noindex
X-PUBLISHED-TTL:PT1H
BEGIN:VTIMEZONE
TZID:Europe/Berlin
BEGIN:DAYLIGHT
TZOFFSETFROM:+0100
TZOFFSETTO:+0200
TZNAME:CEST
DTSTART:20250330T010000
END:DAYLIGHT
BEGIN:STANDARD
TZOFFSETFROM:+0200
TZOFFSETTO:+0100
TZNAME:CET
DTSTART:20251026T010000
END:STANDARD
BEGIN:DAYLIGHT
TZOFFSETFROM:+0100
TZOFFSETTO:+0200
TZNAME:CEST
DTSTART:20260329T010000
END:DAYLIGHT
BEGIN:STANDARD
TZOFFSETFROM:+0200
TZOFFSETTO:+0100
TZNAME:CET
DTSTART:20261025T010000
END:STANDARD
BEGIN:DAYLIGHT
TZOFFSETFROM:+0100
TZOFFSETTO:+0200
TZNAME:CEST
DTSTART:20270328T010000
END:DAYLIGHT
BEGIN:STANDARD
TZOFFSETFROM:+0200
TZOFFSETTO:+0100
TZNAME:CET
DTSTART:20271031T010000
END:STANDARD
END:VTIMEZONE
BEGIN:VEVENT
DTSTART;TZID=Europe/Berlin:20260307T100000
DTEND;TZID=Europe/Berlin:20260307T160000
DTSTAMP:20260420T115012
CREATED:20260217T145309Z
LAST-MODIFIED:20260217T145309Z
UID:5451-1772877600-1772899200@www.bremer-archive.de
SUMMARY:Tag der Archive im Staatsarchiv Bremen
DESCRIPTION:Am Samstag\, den 07. März 2026 öffnet das Staatsarchiv Bremen seine Türen und lädt ein\, einen Blick hinter die Kulissen zu werfen. \nVon 10:00 bis 16:00 Uhr können Sie unsere Räumlichkeiten und Magazinräume kennenlernen und dabei Fragen zur Arbeit des Archivs und zu den Recherchemöglichkeiten stellen. \nFolgende Infostationen bieten wir an: \n\nBenutzerberatung\nPrivates Schriftgut\nBildarchiv\nFotowerkstatt\nRestaurierwerkstatt\nArchivalienaufnahme\nTiefkeller\n\nDer diesjährige Tag der Archive steht unter dem Motto „Alte Heimat – neue Heimat“. Hierzu werden in den Werkstätten und im Lesesaal des Staatsarchivs ausgewählte Exponate gezeigt. Im Foyer findet der traditionelle Bücherflohmarkt statt. Im Vortragsraum zeigen wir Filme zur Geschichte\, den Beständen und zur Benutzung des Staatsarchivs Bremen. \nIm Foyer des Staatsarchivs informiert eine Sonderausstellung über den anstehenden Magazinneubau. \nInteressierte sind herzlich zur Veranstaltung eingeladen\, eine Anmeldung ist nicht erforderlich. \nDie Gesellschaft für Familienforschung e.V. DIE MAUS öffnet an diesem Tag ebenfalls ihre Räumlichkeiten und informieren über ihre Arbeit.
URL:https://www.bremer-archive.de/veranstaltungen/tag-der-archive-im-staatsarchiv-bremen/
ATTACH;FMTTYPE=image/png:https://www.bremer-archive.de/wp-content/uploads/2026_Flyer-Tag-der-Archive-2026_klein.png
END:VEVENT
END:VCALENDAR